BEGIN:VCALENDAR
VERSION:2.0
PRODID:-//DJK TC Passau Grubweg e.V. - ECPv6.15.20//NONSGML v1.0//EN
CALSCALE:GREGORIAN
METHOD:PUBLISH
X-ORIGINAL-URL:https://www.tc-grubweg.de
X-WR-CALDESC:Veranstaltungen für DJK TC Passau Grubweg e.V.
REFRESH-INTERVAL;VALUE=DURATION:PT1H
X-Robots-Tag:noindex
X-PUBLISHED-TTL:PT1H
BEGIN:VTIMEZONE
TZID:Europe/Berlin
BEGIN:DAYLIGHT
TZOFFSETFROM:+0100
TZOFFSETTO:+0200
TZNAME:CEST
DTSTART:20230326T010000
END:DAYLIGHT
BEGIN:STANDARD
TZOFFSETFROM:+0200
TZOFFSETTO:+0100
TZNAME:CET
DTSTART:20231029T010000
END:STANDARD
BEGIN:DAYLIGHT
TZOFFSETFROM:+0100
TZOFFSETTO:+0200
TZNAME:CEST
DTSTART:20240331T010000
END:DAYLIGHT
BEGIN:STANDARD
TZOFFSETFROM:+0200
TZOFFSETTO:+0100
TZNAME:CET
DTSTART:20241027T010000
END:STANDARD
BEGIN:DAYLIGHT
TZOFFSETFROM:+0100
TZOFFSETTO:+0200
TZNAME:CEST
DTSTART:20250330T010000
END:DAYLIGHT
BEGIN:STANDARD
TZOFFSETFROM:+0200
TZOFFSETTO:+0100
TZNAME:CET
DTSTART:20251026T010000
END:STANDARD
END:VTIMEZONE
BEGIN:VEVENT
DTSTART;TZID=Europe/Berlin:20240428T110000
DTEND;TZID=Europe/Berlin:20240428T123000
DTSTAMP:20260424T223548
CREATED:20240122T212749Z
LAST-MODIFIED:20240420T220852Z
UID:1195-1714302000-1714307400@www.tc-grubweg.de
SUMMARY:Tennis Schnuppertag für Jugendliche & Erwachsene
DESCRIPTION:
URL:https://www.tc-grubweg.de/event/tennis-schnuppertag/
ATTACH;FMTTYPE=image/png:https://www.tc-grubweg.de/wp-content/uploads/2024/04/2024_Schnuppertag-Erw.png
END:VEVENT
BEGIN:VEVENT
DTSTART;TZID=Europe/Berlin:20240428T130000
DTEND;TZID=Europe/Berlin:20240428T190000
DTSTAMP:20260424T223548
CREATED:20240414T211218Z
LAST-MODIFIED:20240420T220441Z
UID:1239-1714309200-1714330800@www.tc-grubweg.de
SUMMARY:Saisoneröffnung für ALLE Mitglieder
DESCRIPTION:
URL:https://www.tc-grubweg.de/event/saisoneroeffnung-fuer-alle-mitglieder/
ATTACH;FMTTYPE=image/png:https://www.tc-grubweg.de/wp-content/uploads/2024/04/2024_Saisoneroeffnung2.jpg.png
END:VEVENT
END:VCALENDAR