BEGIN:VCALENDAR
VERSION:2.0
PRODID:-//DJK TC Passau Grubweg e.V. - ECPv6.15.20//NONSGML v1.0//EN
CALSCALE:GREGORIAN
METHOD:PUBLISH
X-ORIGINAL-URL:https://www.tc-grubweg.de
X-WR-CALDESC:Veranstaltungen für DJK TC Passau Grubweg e.V.
REFRESH-INTERVAL;VALUE=DURATION:PT1H
X-Robots-Tag:noindex
X-PUBLISHED-TTL:PT1H
BEGIN:VTIMEZONE
TZID:Europe/Berlin
BEGIN:DAYLIGHT
TZOFFSETFROM:+0100
TZOFFSETTO:+0200
TZNAME:CEST
DTSTART:20240331T010000
END:DAYLIGHT
BEGIN:STANDARD
TZOFFSETFROM:+0200
TZOFFSETTO:+0100
TZNAME:CET
DTSTART:20241027T010000
END:STANDARD
BEGIN:DAYLIGHT
TZOFFSETFROM:+0100
TZOFFSETTO:+0200
TZNAME:CEST
DTSTART:20250330T010000
END:DAYLIGHT
BEGIN:STANDARD
TZOFFSETFROM:+0200
TZOFFSETTO:+0100
TZNAME:CET
DTSTART:20251026T010000
END:STANDARD
BEGIN:DAYLIGHT
TZOFFSETFROM:+0100
TZOFFSETTO:+0200
TZNAME:CEST
DTSTART:20260329T010000
END:DAYLIGHT
BEGIN:STANDARD
TZOFFSETFROM:+0200
TZOFFSETTO:+0100
TZNAME:CET
DTSTART:20261025T010000
END:STANDARD
END:VTIMEZONE
BEGIN:VEVENT
DTSTART;TZID=Europe/Berlin:20250412T130000
DTEND;TZID=Europe/Berlin:20250412T170000
DTSTAMP:20260424T005033
CREATED:20250322T192319Z
LAST-MODIFIED:20250322T192319Z
UID:1401-1744462800-1744477200@www.tc-grubweg.de
SUMMARY:Saisoneröffnung mit Gauditurnier für alle Mitglieder
DESCRIPTION:
URL:https://www.tc-grubweg.de/event/saisoneroeffnung-mit-gauditurnier-fuer-alle-mitglieder/
END:VEVENT
BEGIN:VEVENT
DTSTART;TZID=Europe/Berlin:20250412T140000
DTEND;TZID=Europe/Berlin:20250412T160000
DTSTAMP:20260424T005033
CREATED:20250321T195954Z
LAST-MODIFIED:20250321T195954Z
UID:1394-1744466400-1744473600@www.tc-grubweg.de
SUMMARY:Tennisschnuppertag für Kinder&Jugendliche&Erwachsene
DESCRIPTION:2025_Tennisschnuppertag 12. April 25 \n 
URL:https://www.tc-grubweg.de/event/tennisschnuppertag-fuer-kinderjugendlicheerwachsene/
ATTACH;FMTTYPE=image/png:https://www.tc-grubweg.de/wp-content/uploads/2025/03/2025_Tennisschnuppertag-12.-April-25.png
END:VEVENT
END:VCALENDAR