BEGIN:VCALENDAR
VERSION:2.0
PRODID:-//DJK TC Passau Grubweg e.V. - ECPv6.15.20//NONSGML v1.0//EN
CALSCALE:GREGORIAN
METHOD:PUBLISH
X-WR-CALNAME:DJK TC Passau Grubweg e.V.
X-ORIGINAL-URL:https://www.tc-grubweg.de
X-WR-CALDESC:Veranstaltungen für DJK TC Passau Grubweg e.V.
REFRESH-INTERVAL;VALUE=DURATION:PT1H
X-Robots-Tag:noindex
X-PUBLISHED-TTL:PT1H
BEGIN:VTIMEZONE
TZID:Europe/Berlin
BEGIN:DAYLIGHT
TZOFFSETFROM:+0100
TZOFFSETTO:+0200
TZNAME:CEST
DTSTART:20250330T010000
END:DAYLIGHT
BEGIN:STANDARD
TZOFFSETFROM:+0200
TZOFFSETTO:+0100
TZNAME:CET
DTSTART:20251026T010000
END:STANDARD
BEGIN:DAYLIGHT
TZOFFSETFROM:+0100
TZOFFSETTO:+0200
TZNAME:CEST
DTSTART:20260329T010000
END:DAYLIGHT
BEGIN:STANDARD
TZOFFSETFROM:+0200
TZOFFSETTO:+0100
TZNAME:CET
DTSTART:20261025T010000
END:STANDARD
BEGIN:DAYLIGHT
TZOFFSETFROM:+0100
TZOFFSETTO:+0200
TZNAME:CEST
DTSTART:20270328T010000
END:DAYLIGHT
BEGIN:STANDARD
TZOFFSETFROM:+0200
TZOFFSETTO:+0100
TZNAME:CET
DTSTART:20271031T010000
END:STANDARD
END:VTIMEZONE
BEGIN:VEVENT
DTSTART;TZID=Europe/Berlin:20260314T140000
DTEND;TZID=Europe/Berlin:20260314T160000
DTSTAMP:20260423T063853
CREATED:20260218T154546Z
LAST-MODIFIED:20260218T155559Z
UID:1569-1773496800-1773504000@www.tc-grubweg.de
SUMMARY:+++ TCG Mannschaftstag für alle Mannschaftsspieler & Betreuer & Eltern +++
DESCRIPTION:2026_Regeltag TCG
URL:https://www.tc-grubweg.de/event/1569/
ATTACH;FMTTYPE=image/jpeg:https://www.tc-grubweg.de/wp-content/uploads/2026/02/2026_Regeltag-TCG.jpg
END:VEVENT
BEGIN:VEVENT
DTSTART;TZID=Europe/Berlin:20260314T190000
DTEND;TZID=Europe/Berlin:20260314T235900
DTSTAMP:20260423T063853
CREATED:20260119T215031Z
LAST-MODIFIED:20260218T205835Z
UID:1558-1773514800-1773532740@www.tc-grubweg.de
SUMMARY:Starkbierfest im TCG
DESCRIPTION:Details folgen
URL:https://www.tc-grubweg.de/event/starkbierfest-im-tcg/
END:VEVENT
END:VCALENDAR