BEGIN:VCALENDAR
VERSION:2.0
PRODID:-//DJK TC Passau Grubweg e.V. - ECPv6.15.20//NONSGML v1.0//EN
CALSCALE:GREGORIAN
METHOD:PUBLISH
X-ORIGINAL-URL:https://www.tc-grubweg.de
X-WR-CALDESC:Veranstaltungen für DJK TC Passau Grubweg e.V.
REFRESH-INTERVAL;VALUE=DURATION:PT1H
X-Robots-Tag:noindex
X-PUBLISHED-TTL:PT1H
BEGIN:VTIMEZONE
TZID:Europe/Berlin
BEGIN:DAYLIGHT
TZOFFSETFROM:+0100
TZOFFSETTO:+0200
TZNAME:CEST
DTSTART:20230326T010000
END:DAYLIGHT
BEGIN:STANDARD
TZOFFSETFROM:+0200
TZOFFSETTO:+0100
TZNAME:CET
DTSTART:20231029T010000
END:STANDARD
BEGIN:DAYLIGHT
TZOFFSETFROM:+0100
TZOFFSETTO:+0200
TZNAME:CEST
DTSTART:20240331T010000
END:DAYLIGHT
BEGIN:STANDARD
TZOFFSETFROM:+0200
TZOFFSETTO:+0100
TZNAME:CET
DTSTART:20241027T010000
END:STANDARD
BEGIN:DAYLIGHT
TZOFFSETFROM:+0100
TZOFFSETTO:+0200
TZNAME:CEST
DTSTART:20250330T010000
END:DAYLIGHT
BEGIN:STANDARD
TZOFFSETFROM:+0200
TZOFFSETTO:+0100
TZNAME:CET
DTSTART:20251026T010000
END:STANDARD
BEGIN:DAYLIGHT
TZOFFSETFROM:+0100
TZOFFSETTO:+0200
TZNAME:CEST
DTSTART:20260329T010000
END:DAYLIGHT
BEGIN:STANDARD
TZOFFSETFROM:+0200
TZOFFSETTO:+0100
TZNAME:CET
DTSTART:20261025T010000
END:STANDARD
BEGIN:DAYLIGHT
TZOFFSETFROM:+0100
TZOFFSETTO:+0200
TZNAME:CEST
DTSTART:20270328T010000
END:DAYLIGHT
BEGIN:STANDARD
TZOFFSETFROM:+0200
TZOFFSETTO:+0100
TZNAME:CET
DTSTART:20271031T010000
END:STANDARD
END:VTIMEZONE
BEGIN:VEVENT
DTSTART;TZID=Europe/Berlin:20260418T140000
DTEND;TZID=Europe/Berlin:20260418T163000
DTSTAMP:20260423T032128
CREATED:20260413T211357Z
LAST-MODIFIED:20260413T211357Z
UID:1598-1776520800-1776529800@www.tc-grubweg.de
SUMMARY:Kinder- & Jugendmannschaftstag
DESCRIPTION:
URL:https://www.tc-grubweg.de/event/kinder-jugendmannschaftstag/
ATTACH;FMTTYPE=image/jpeg:https://www.tc-grubweg.de/wp-content/uploads/2026/04/2026_Kinder-Jugend-Mannschaftstag.jpeg
END:VEVENT
BEGIN:VEVENT
DTSTART;TZID=Europe/Berlin:20260318T183000
DTEND;TZID=Europe/Berlin:20260318T200000
DTSTAMP:20260423T032128
CREATED:20260218T154057Z
LAST-MODIFIED:20260218T205920Z
UID:1567-1773858600-1773864000@www.tc-grubweg.de
SUMMARY:TCG Mitgliederversammlung mit Neuwahlen
DESCRIPTION:
URL:https://www.tc-grubweg.de/event/tcg-mitgliederversammlung-mit-neuwahlen-2/
END:VEVENT
BEGIN:VEVENT
DTSTART;TZID=Europe/Berlin:20260314T190000
DTEND;TZID=Europe/Berlin:20260314T235900
DTSTAMP:20260423T032128
CREATED:20260119T215031Z
LAST-MODIFIED:20260218T205835Z
UID:1558-1773514800-1773532740@www.tc-grubweg.de
SUMMARY:Starkbierfest im TCG
DESCRIPTION:Details folgen
URL:https://www.tc-grubweg.de/event/starkbierfest-im-tcg/
END:VEVENT
BEGIN:VEVENT
DTSTART;TZID=Europe/Berlin:20260314T140000
DTEND;TZID=Europe/Berlin:20260314T160000
DTSTAMP:20260423T032128
CREATED:20260218T154546Z
LAST-MODIFIED:20260218T155559Z
UID:1569-1773496800-1773504000@www.tc-grubweg.de
SUMMARY:+++ TCG Mannschaftstag für alle Mannschaftsspieler & Betreuer & Eltern +++
DESCRIPTION:2026_Regeltag TCG
URL:https://www.tc-grubweg.de/event/1569/
ATTACH;FMTTYPE=image/jpeg:https://www.tc-grubweg.de/wp-content/uploads/2026/02/2026_Regeltag-TCG.jpg
END:VEVENT
BEGIN:VEVENT
DTSTART;VALUE=DATE:20260218
DTEND;VALUE=DATE:20260219
DTSTAMP:20260423T032128
CREATED:20251106T225236Z
LAST-MODIFIED:20251106T225236Z
UID:1540-1771372800-1771459199@www.tc-grubweg.de
SUMMARY:LK-Turnier
DESCRIPTION:Anmeldung & Info unter: \nhttps://spieler.tennis.de/web/guest/turniersuche?tournamentId=764399
URL:https://www.tc-grubweg.de/event/lk-turnier/
END:VEVENT
BEGIN:VEVENT
DTSTART;TZID=Europe/Berlin:20251219T180000
DTEND;TZID=Europe/Berlin:20251219T230000
DTSTAMP:20260423T032128
CREATED:20251106T224740Z
LAST-MODIFIED:20251106T224740Z
UID:1536-1766167200-1766185200@www.tc-grubweg.de
SUMMARY:TCG Weihnachtsfeier für Erwachsene
DESCRIPTION:
URL:https://www.tc-grubweg.de/event/tcg-weihnachtsfeier-fuer-erwachsene/
END:VEVENT
BEGIN:VEVENT
DTSTART;TZID=Europe/Berlin:20251214T150000
DTEND;TZID=Europe/Berlin:20251214T190000
DTSTAMP:20260423T032128
CREATED:20251105T185155Z
LAST-MODIFIED:20251105T185939Z
UID:1522-1765724400-1765738800@www.tc-grubweg.de
SUMMARY:TCG Weihnachtsfeier Jugend
DESCRIPTION:2025_Weihnachtsfeier Jugend
URL:https://www.tc-grubweg.de/event/1522/
END:VEVENT
BEGIN:VEVENT
DTSTART;VALUE=DATE:20251126
DTEND;VALUE=DATE:20251127
DTSTAMP:20260423T032128
CREATED:20251106T224911Z
LAST-MODIFIED:20251106T224911Z
UID:1538-1764115200-1764201599@www.tc-grubweg.de
SUMMARY:ao. Mitgliederversammlung
DESCRIPTION:Info folgt
URL:https://www.tc-grubweg.de/event/ao-mitgliederversammlung/
END:VEVENT
BEGIN:VEVENT
DTSTART;TZID=Europe/Berlin:20251121T190000
DTEND;TZID=Europe/Berlin:20251121T220000
DTSTAMP:20260423T032128
CREATED:20251105T184628Z
LAST-MODIFIED:20251105T184656Z
UID:1517-1763751600-1763762400@www.tc-grubweg.de
SUMMARY:Schafkopfturnier am 21. November
DESCRIPTION:2025_Schafkopfturnier
URL:https://www.tc-grubweg.de/event/schafkopfturnier-am-21-november/
ATTACH;FMTTYPE=image/jpeg:https://www.tc-grubweg.de/wp-content/uploads/2025/11/2025_Schafkopf-TCG.jpg
END:VEVENT
BEGIN:VEVENT
DTSTART;VALUE=DATE:20250929
DTEND;VALUE=DATE:20250930
DTSTAMP:20260423T032128
CREATED:20250830T204726Z
LAST-MODIFIED:20250830T204726Z
UID:1511-1759104000-1759190399@www.tc-grubweg.de
SUMMARY:Beginn der Hallensaison 2025-2026
DESCRIPTION:
URL:https://www.tc-grubweg.de/event/beginn-der-hallensaison-2025-2026/
END:VEVENT
BEGIN:VEVENT
DTSTART;TZID=Europe/Berlin:20250926T140000
DTEND;TZID=Europe/Berlin:20250926T180000
DTSTAMP:20260423T032128
CREATED:20250830T204638Z
LAST-MODIFIED:20250830T204652Z
UID:1509-1758895200-1758909600@www.tc-grubweg.de
SUMMARY:ZF-Tennis Doppel Turnier 2025
DESCRIPTION:
URL:https://www.tc-grubweg.de/event/zf-tennis-doppel-turnier-2025/
END:VEVENT
BEGIN:VEVENT
DTSTART;VALUE=DATE:20250920
DTEND;VALUE=DATE:20250921
DTSTAMP:20260423T032128
CREATED:20250830T204518Z
LAST-MODIFIED:20250830T204544Z
UID:1506-1758326400-1758412799@www.tc-grubweg.de
SUMMARY:Finaltag der Vereinsmeisterschaften
DESCRIPTION:
URL:https://www.tc-grubweg.de/event/finaltag-der-vereinsmeisterschaften/
ATTACH;FMTTYPE=image/jpeg:https://www.tc-grubweg.de/wp-content/uploads/2025/08/2025_Vereinsmeisterschaften.jpg
END:VEVENT
BEGIN:VEVENT
DTSTART;VALUE=DATE:20250909
DTEND;VALUE=DATE:20250912
DTSTAMP:20260423T032128
CREATED:20250218T215501Z
LAST-MODIFIED:20250218T215501Z
UID:1389-1757376000-1757635199@www.tc-grubweg.de
SUMMARY:Herbst Tennis Camp
DESCRIPTION:
URL:https://www.tc-grubweg.de/event/herbst-tennis-camp/
ATTACH;FMTTYPE=image/png:https://www.tc-grubweg.de/wp-content/uploads/2025/02/2025_Tenniscamps.png
END:VEVENT
BEGIN:VEVENT
DTSTART;VALUE=DATE:20250804
DTEND;VALUE=DATE:20250808
DTSTAMP:20260423T032128
CREATED:20250218T215230Z
LAST-MODIFIED:20250218T215351Z
UID:1387-1754265600-1754611199@www.tc-grubweg.de
SUMMARY:Sommer Tennis Camp
DESCRIPTION:
URL:https://www.tc-grubweg.de/event/sommer-tennis-camp/
ATTACH;FMTTYPE=image/png:https://www.tc-grubweg.de/wp-content/uploads/2025/02/2025_Tenniscamps.png
END:VEVENT
BEGIN:VEVENT
DTSTART;VALUE=DATE:20250610
DTEND;VALUE=DATE:20250613
DTSTAMP:20260423T032128
CREATED:20250218T215052Z
LAST-MODIFIED:20250218T215052Z
UID:1385-1749513600-1749772799@www.tc-grubweg.de
SUMMARY:Pfingst Tennis Camp
DESCRIPTION:
URL:https://www.tc-grubweg.de/event/pfingst-tennis-camp/
ATTACH;FMTTYPE=image/png:https://www.tc-grubweg.de/wp-content/uploads/2025/02/2025_Tenniscamps.png
END:VEVENT
BEGIN:VEVENT
DTSTART;VALUE=DATE:20250501
DTEND;VALUE=DATE:20250502
DTSTAMP:20260423T032128
CREATED:20250218T214546Z
LAST-MODIFIED:20250218T214634Z
UID:1378-1746057600-1746143999@www.tc-grubweg.de
SUMMARY:67. LK Tagesturnier für Damen/Herren\, Senioren und Jugendliche
DESCRIPTION:
URL:https://www.tc-grubweg.de/event/67-lk-tagesturnier-fuer-damen-herren-senioren-und-jugendliche/
END:VEVENT
BEGIN:VEVENT
DTSTART;VALUE=DATE:20250419
DTEND;VALUE=DATE:20250427
DTSTAMP:20260423T032128
CREATED:20250322T192415Z
LAST-MODIFIED:20250322T192415Z
UID:1403-1745020800-1745711999@www.tc-grubweg.de
SUMMARY:TCG Tennis Trainingslager 2025 in Biograd/Kroatien
DESCRIPTION:
URL:https://www.tc-grubweg.de/event/tcg-tennis-trainingslager-2025-in-biograd-kroatien/
END:VEVENT
BEGIN:VEVENT
DTSTART;TZID=Europe/Berlin:20250412T140000
DTEND;TZID=Europe/Berlin:20250412T160000
DTSTAMP:20260423T032128
CREATED:20250321T195954Z
LAST-MODIFIED:20250321T195954Z
UID:1394-1744466400-1744473600@www.tc-grubweg.de
SUMMARY:Tennisschnuppertag für Kinder&Jugendliche&Erwachsene
DESCRIPTION:2025_Tennisschnuppertag 12. April 25 \n 
URL:https://www.tc-grubweg.de/event/tennisschnuppertag-fuer-kinderjugendlicheerwachsene/
ATTACH;FMTTYPE=image/png:https://www.tc-grubweg.de/wp-content/uploads/2025/03/2025_Tennisschnuppertag-12.-April-25.png
END:VEVENT
BEGIN:VEVENT
DTSTART;TZID=Europe/Berlin:20250412T130000
DTEND;TZID=Europe/Berlin:20250412T170000
DTSTAMP:20260423T032128
CREATED:20250322T192319Z
LAST-MODIFIED:20250322T192319Z
UID:1401-1744462800-1744477200@www.tc-grubweg.de
SUMMARY:Saisoneröffnung mit Gauditurnier für alle Mitglieder
DESCRIPTION:
URL:https://www.tc-grubweg.de/event/saisoneroeffnung-mit-gauditurnier-fuer-alle-mitglieder/
END:VEVENT
BEGIN:VEVENT
DTSTART;TZID=Europe/Berlin:20250329T100000
DTEND;TZID=Europe/Berlin:20250329T180000
DTSTAMP:20260423T032128
CREATED:20250321T200457Z
LAST-MODIFIED:20250321T200457Z
UID:1398-1743242400-1743271200@www.tc-grubweg.de
SUMMARY:Frühjahrsinstandsetzung
DESCRIPTION:Liebe Mitglieder des TCG\, \nan den Samstagen 22. & 29. März werden wir ab 10 Uhr die Freiplätze aus dem Winterschlaf holen\, das alte Vereinsheim weiter abreißen und die gesamte Anlage des TCG auf Vordermann bringen. Hierzu brauchen wir Eure Unterstützung! \nVerbindliche Anmeldungen bitte an unseren 1. Vorstand Tobias Pach (+49 171 1702111)
URL:https://www.tc-grubweg.de/event/fruehjahrsinstandsetzung/
ATTACH;FMTTYPE=image/png:https://www.tc-grubweg.de/wp-content/uploads/2025/03/2025_Fruehjahrsinstandsetzung.png
END:VEVENT
BEGIN:VEVENT
DTSTART;TZID=Europe/Berlin:20250312T180000
DTEND;TZID=Europe/Berlin:20250312T200000
DTSTAMP:20260423T032128
CREATED:20250218T214739Z
LAST-MODIFIED:20250218T214739Z
UID:1380-1741802400-1741809600@www.tc-grubweg.de
SUMMARY:TCG Mitgliederversammlung am 12. März
DESCRIPTION:
URL:https://www.tc-grubweg.de/event/tcg-mitgliederversammlung-am-12-maerz/
END:VEVENT
BEGIN:VEVENT
DTSTART;TZID=Europe/Berlin:20250308T180000
DTEND;TZID=Europe/Berlin:20250308T230000
DTSTAMP:20260423T032128
CREATED:20250221T215526Z
LAST-MODIFIED:20250221T215526Z
UID:1391-1741456800-1741474800@www.tc-grubweg.de
SUMMARY:Starkbierfest
DESCRIPTION:
URL:https://www.tc-grubweg.de/event/starkbierfest-2/
END:VEVENT
BEGIN:VEVENT
DTSTART;VALUE=DATE:20250104
DTEND;VALUE=DATE:20250105
DTSTAMP:20260423T032128
CREATED:20241002T210133Z
LAST-MODIFIED:20241105T193231Z
UID:1325-1735948800-1736035199@www.tc-grubweg.de
SUMMARY:66. LK Tagesturnier für Jugendliche & Erwachsene
DESCRIPTION:Infos & Anmeldung unter: \n 
URL:https://www.tc-grubweg.de/event/65-lk-tagesturnier-fuer-jugendliche-erwachsene/
END:VEVENT
BEGIN:VEVENT
DTSTART;TZID=Europe/Berlin:20241208T130000
DTEND;TZID=Europe/Berlin:20241208T180000
DTSTAMP:20260423T032128
CREATED:20241018T215636Z
LAST-MODIFIED:20241018T215636Z
UID:1339-1733662800-1733680800@www.tc-grubweg.de
SUMMARY:TCG Nikolausturnier & Feier für Kinder & Jugendliche
DESCRIPTION:
URL:https://www.tc-grubweg.de/event/tcg-nikolausturnier-feier-fuer-kinder-jugendliche/
END:VEVENT
BEGIN:VEVENT
DTSTART;TZID=Europe/Berlin:20241115T180000
DTEND;TZID=Europe/Berlin:20241115T220000
DTSTAMP:20260423T032128
CREATED:20241013T181556Z
LAST-MODIFIED:20241013T181621Z
UID:1336-1731693600-1731708000@www.tc-grubweg.de
SUMMARY:Schafkopfturnier
DESCRIPTION:
URL:https://www.tc-grubweg.de/event/schafkopfturnier-3/
END:VEVENT
BEGIN:VEVENT
DTSTART;VALUE=DATE:20241012
DTEND;VALUE=DATE:20250407
DTSTAMP:20260423T032128
CREATED:20241002T213121Z
LAST-MODIFIED:20241002T213303Z
UID:1327-1728691200-1743983999@www.tc-grubweg.de
SUMMARY:BTV Winterrunde - TCG Vereinsspielplan
DESCRIPTION:24-25_Vereinsspielplan
URL:https://www.tc-grubweg.de/event/btv-winterrunde-tcg-vereinsspielplan/
END:VEVENT
BEGIN:VEVENT
DTSTART;VALUE=DATE:20240928
DTEND;VALUE=DATE:20240929
DTSTAMP:20260423T032128
CREATED:20240805T210040Z
LAST-MODIFIED:20240805T210040Z
UID:1313-1727481600-1727567999@www.tc-grubweg.de
SUMMARY:Finalspiele Vereinsmeisterschaften Erwachsene
DESCRIPTION:
URL:https://www.tc-grubweg.de/event/finalspiele-vereinsmeisterschaften-erwachsene/
END:VEVENT
BEGIN:VEVENT
DTSTART;VALUE=DATE:20240921
DTEND;VALUE=DATE:20240923
DTSTAMP:20260423T032128
CREATED:20240805T210229Z
LAST-MODIFIED:20240805T210229Z
UID:1315-1726876800-1727049599@www.tc-grubweg.de
SUMMARY:Offene Jugend DJK-Diözesanmeisterschaft Bistum Passau
DESCRIPTION:
URL:https://www.tc-grubweg.de/event/offene-jugend-djk-dioezesanmeisterschaft-bistum-passau/
END:VEVENT
BEGIN:VEVENT
DTSTART;TZID=Europe/Berlin:20240914T170000
DTEND;TZID=Europe/Berlin:20240914T230000
DTSTAMP:20260423T032128
CREATED:20240628T213343Z
LAST-MODIFIED:20240715T192205Z
UID:1275-1726333200-1726354800@www.tc-grubweg.de
SUMMARY:TCG Saisonabschlußfeier für alle Mitglieder
DESCRIPTION:
URL:https://www.tc-grubweg.de/event/tcg-sommerfest/
END:VEVENT
BEGIN:VEVENT
DTSTART;VALUE=DATE:20240914
DTEND;VALUE=DATE:20240916
DTSTAMP:20260423T032128
CREATED:20240715T192317Z
LAST-MODIFIED:20240805T205913Z
UID:1296-1726272000-1726444799@www.tc-grubweg.de
SUMMARY:Vereinsmeisterschaften Kinder & Jugendliche
DESCRIPTION:
URL:https://www.tc-grubweg.de/event/finalwochenende-vereinsmeisterschaften-kinder-jugendliche-erwachsene/
END:VEVENT
END:VCALENDAR