BEGIN:VCALENDAR
VERSION:2.0
PRODID:-//DJK TC Passau Grubweg e.V. - ECPv6.15.20//NONSGML v1.0//EN
CALSCALE:GREGORIAN
METHOD:PUBLISH
X-ORIGINAL-URL:https://www.tc-grubweg.de
X-WR-CALDESC:Veranstaltungen für DJK TC Passau Grubweg e.V.
REFRESH-INTERVAL;VALUE=DURATION:PT1H
X-Robots-Tag:noindex
X-PUBLISHED-TTL:PT1H
BEGIN:VTIMEZONE
TZID:Europe/Berlin
BEGIN:DAYLIGHT
TZOFFSETFROM:+0100
TZOFFSETTO:+0200
TZNAME:CEST
DTSTART:20240331T010000
END:DAYLIGHT
BEGIN:STANDARD
TZOFFSETFROM:+0200
TZOFFSETTO:+0100
TZNAME:CET
DTSTART:20241027T010000
END:STANDARD
BEGIN:DAYLIGHT
TZOFFSETFROM:+0100
TZOFFSETTO:+0200
TZNAME:CEST
DTSTART:20250330T010000
END:DAYLIGHT
BEGIN:STANDARD
TZOFFSETFROM:+0200
TZOFFSETTO:+0100
TZNAME:CET
DTSTART:20251026T010000
END:STANDARD
BEGIN:DAYLIGHT
TZOFFSETFROM:+0100
TZOFFSETTO:+0200
TZNAME:CEST
DTSTART:20260329T010000
END:DAYLIGHT
BEGIN:STANDARD
TZOFFSETFROM:+0200
TZOFFSETTO:+0100
TZNAME:CET
DTSTART:20261025T010000
END:STANDARD
END:VTIMEZONE
BEGIN:VEVENT
DTSTART;VALUE=DATE:20250909
DTEND;VALUE=DATE:20250912
DTSTAMP:20260423T150433
CREATED:20250218T215501Z
LAST-MODIFIED:20250218T215501Z
UID:1389-1757376000-1757635199@www.tc-grubweg.de
SUMMARY:Herbst Tennis Camp
DESCRIPTION:
URL:https://www.tc-grubweg.de/event/herbst-tennis-camp/
ATTACH;FMTTYPE=image/png:https://www.tc-grubweg.de/wp-content/uploads/2025/02/2025_Tenniscamps.png
END:VEVENT
BEGIN:VEVENT
DTSTART;VALUE=DATE:20250920
DTEND;VALUE=DATE:20250921
DTSTAMP:20260423T150433
CREATED:20250830T204518Z
LAST-MODIFIED:20250830T204544Z
UID:1506-1758326400-1758412799@www.tc-grubweg.de
SUMMARY:Finaltag der Vereinsmeisterschaften
DESCRIPTION:
URL:https://www.tc-grubweg.de/event/finaltag-der-vereinsmeisterschaften/
ATTACH;FMTTYPE=image/jpeg:https://www.tc-grubweg.de/wp-content/uploads/2025/08/2025_Vereinsmeisterschaften.jpg
END:VEVENT
BEGIN:VEVENT
DTSTART;TZID=Europe/Berlin:20250926T140000
DTEND;TZID=Europe/Berlin:20250926T180000
DTSTAMP:20260423T150433
CREATED:20250830T204638Z
LAST-MODIFIED:20250830T204652Z
UID:1509-1758895200-1758909600@www.tc-grubweg.de
SUMMARY:ZF-Tennis Doppel Turnier 2025
DESCRIPTION:
URL:https://www.tc-grubweg.de/event/zf-tennis-doppel-turnier-2025/
END:VEVENT
BEGIN:VEVENT
DTSTART;VALUE=DATE:20250929
DTEND;VALUE=DATE:20250930
DTSTAMP:20260423T150433
CREATED:20250830T204726Z
LAST-MODIFIED:20250830T204726Z
UID:1511-1759104000-1759190399@www.tc-grubweg.de
SUMMARY:Beginn der Hallensaison 2025-2026
DESCRIPTION:
URL:https://www.tc-grubweg.de/event/beginn-der-hallensaison-2025-2026/
END:VEVENT
END:VCALENDAR