BEGIN:VCALENDAR
VERSION:2.0
PRODID:-//DJK TC Passau Grubweg e.V. - ECPv6.15.20//NONSGML v1.0//EN
CALSCALE:GREGORIAN
METHOD:PUBLISH
X-WR-CALNAME:DJK TC Passau Grubweg e.V.
X-ORIGINAL-URL:https://www.tc-grubweg.de
X-WR-CALDESC:Veranstaltungen für DJK TC Passau Grubweg e.V.
REFRESH-INTERVAL;VALUE=DURATION:PT1H
X-Robots-Tag:noindex
X-PUBLISHED-TTL:PT1H
BEGIN:VTIMEZONE
TZID:Europe/Berlin
BEGIN:DAYLIGHT
TZOFFSETFROM:+0100
TZOFFSETTO:+0200
TZNAME:CEST
DTSTART:20240331T010000
END:DAYLIGHT
BEGIN:STANDARD
TZOFFSETFROM:+0200
TZOFFSETTO:+0100
TZNAME:CET
DTSTART:20241027T010000
END:STANDARD
BEGIN:DAYLIGHT
TZOFFSETFROM:+0100
TZOFFSETTO:+0200
TZNAME:CEST
DTSTART:20250330T010000
END:DAYLIGHT
BEGIN:STANDARD
TZOFFSETFROM:+0200
TZOFFSETTO:+0100
TZNAME:CET
DTSTART:20251026T010000
END:STANDARD
BEGIN:DAYLIGHT
TZOFFSETFROM:+0100
TZOFFSETTO:+0200
TZNAME:CEST
DTSTART:20260329T010000
END:DAYLIGHT
BEGIN:STANDARD
TZOFFSETFROM:+0200
TZOFFSETTO:+0100
TZNAME:CET
DTSTART:20261025T010000
END:STANDARD
END:VTIMEZONE
BEGIN:VEVENT
DTSTART;TZID=Europe/Berlin:20251214T150000
DTEND;TZID=Europe/Berlin:20251214T190000
DTSTAMP:20260423T100429
CREATED:20251105T185155Z
LAST-MODIFIED:20251105T185939Z
UID:1522-1765724400-1765738800@www.tc-grubweg.de
SUMMARY:TCG Weihnachtsfeier Jugend
DESCRIPTION:2025_Weihnachtsfeier Jugend
URL:https://www.tc-grubweg.de/event/1522/
END:VEVENT
BEGIN:VEVENT
DTSTART;TZID=Europe/Berlin:20251219T180000
DTEND;TZID=Europe/Berlin:20251219T230000
DTSTAMP:20260423T100429
CREATED:20251106T224740Z
LAST-MODIFIED:20251106T224740Z
UID:1536-1766167200-1766185200@www.tc-grubweg.de
SUMMARY:TCG Weihnachtsfeier für Erwachsene
DESCRIPTION:
URL:https://www.tc-grubweg.de/event/tcg-weihnachtsfeier-fuer-erwachsene/
END:VEVENT
END:VCALENDAR